BEGIN:VCALENDAR
VERSION:2.0
PRODID:-//Sharon Virts | Author - ECPv6.15.20//NONSGML v1.0//EN
CALSCALE:GREGORIAN
METHOD:PUBLISH
X-WR-CALNAME:Sharon Virts | Author
X-ORIGINAL-URL:https://sharonvirts.com
X-WR-CALDESC:Events for Sharon Virts | Author
REFRESH-INTERVAL;VALUE=DURATION:PT1H
X-Robots-Tag:noindex
X-PUBLISHED-TTL:PT1H
BEGIN:VTIMEZONE
TZID:America/New_York
BEGIN:DAYLIGHT
TZOFFSETFROM:-0500
TZOFFSETTO:-0400
TZNAME:EDT
DTSTART:20220313T070000
END:DAYLIGHT
BEGIN:STANDARD
TZOFFSETFROM:-0400
TZOFFSETTO:-0500
TZNAME:EST
DTSTART:20221106T060000
END:STANDARD
BEGIN:DAYLIGHT
TZOFFSETFROM:-0500
TZOFFSETTO:-0400
TZNAME:EDT
DTSTART:20230312T070000
END:DAYLIGHT
BEGIN:STANDARD
TZOFFSETFROM:-0400
TZOFFSETTO:-0500
TZNAME:EST
DTSTART:20231105T060000
END:STANDARD
BEGIN:DAYLIGHT
TZOFFSETFROM:-0500
TZOFFSETTO:-0400
TZNAME:EDT
DTSTART:20240310T070000
END:DAYLIGHT
BEGIN:STANDARD
TZOFFSETFROM:-0400
TZOFFSETTO:-0500
TZNAME:EST
DTSTART:20241103T060000
END:STANDARD
END:VTIMEZONE
BEGIN:VEVENT
DTSTART;TZID=America/New_York:20231027T180000
DTEND;TZID=America/New_York:20231027T210000
DTSTAMP:20260421T185410
CREATED:20230905T151943Z
LAST-MODIFIED:20231026T143802Z
UID:4898-1698429600-1698440400@sharonvirts.com
SUMMARY:Leesburg Hauntings Tour & Veil of Doubt Book Signing - October 27th in Leesburg\, VA
DESCRIPTION:Meet me on the steps of the Loudoun County Courthouse where will will join the Leesburg Hauntings Tour. Once the tour is complete\, I will discuss Veil of Doubt and sign books.
URL:https://sharonvirts.com/event/leesburg-hauntings-tour-veil-of-doubt-book-signing-october-27th/
LOCATION:VA
END:VEVENT
END:VCALENDAR