BEGIN:VCALENDAR
VERSION:2.0
PRODID:-//Sharon Virts | Author - ECPv6.15.20//NONSGML v1.0//EN
CALSCALE:GREGORIAN
METHOD:PUBLISH
X-ORIGINAL-URL:https://sharonvirts.com
X-WR-CALDESC:Events for Sharon Virts | Author
REFRESH-INTERVAL;VALUE=DURATION:PT1H
X-Robots-Tag:noindex
X-PUBLISHED-TTL:PT1H
BEGIN:VTIMEZONE
TZID:America/New_York
BEGIN:DAYLIGHT
TZOFFSETFROM:-0500
TZOFFSETTO:-0400
TZNAME:EDT
DTSTART:20220313T070000
END:DAYLIGHT
BEGIN:STANDARD
TZOFFSETFROM:-0400
TZOFFSETTO:-0500
TZNAME:EST
DTSTART:20221106T060000
END:STANDARD
BEGIN:DAYLIGHT
TZOFFSETFROM:-0500
TZOFFSETTO:-0400
TZNAME:EDT
DTSTART:20230312T070000
END:DAYLIGHT
BEGIN:STANDARD
TZOFFSETFROM:-0400
TZOFFSETTO:-0500
TZNAME:EST
DTSTART:20231105T060000
END:STANDARD
BEGIN:DAYLIGHT
TZOFFSETFROM:-0500
TZOFFSETTO:-0400
TZNAME:EDT
DTSTART:20240310T070000
END:DAYLIGHT
BEGIN:STANDARD
TZOFFSETFROM:-0400
TZOFFSETTO:-0500
TZNAME:EST
DTSTART:20241103T060000
END:STANDARD
END:VTIMEZONE
BEGIN:VEVENT
DTSTART;TZID=America/New_York:20231118T140000
DTEND;TZID=America/New_York:20231118T160000
DTSTAMP:20260421T185531
CREATED:20231004T212342Z
LAST-MODIFIED:20231026T143459Z
UID:4961-1700316000-1700323200@sharonvirts.com
SUMMARY:Veil of Doubt Book Talk & Signing - Winchester Book Gallery in Winchester\, VA
DESCRIPTION:Join me at the Winchester Book Gallery in Winchester\, VA where I will be introducing Veil of Doubt and signing books. Pre-registration required. \nUse this link to register!
URL:https://sharonvirts.com/event/veil-of-doubt-book-talk-signing-winchester-book-gallery-in-winchester-va/
LOCATION:Winchester Book Gallery\, 7 N Loudoun St\, Winchester\, VA\, 22601\, United States
END:VEVENT
END:VCALENDAR