BEGIN:VCALENDAR
VERSION:2.0
PRODID:-//Sharon Virts | Author - ECPv6.15.20//NONSGML v1.0//EN
CALSCALE:GREGORIAN
METHOD:PUBLISH
X-WR-CALNAME:Sharon Virts | Author
X-ORIGINAL-URL:https://sharonvirts.com
X-WR-CALDESC:Events for Sharon Virts | Author
REFRESH-INTERVAL;VALUE=DURATION:PT1H
X-Robots-Tag:noindex
X-PUBLISHED-TTL:PT1H
BEGIN:VTIMEZONE
TZID:America/New_York
BEGIN:DAYLIGHT
TZOFFSETFROM:-0500
TZOFFSETTO:-0400
TZNAME:EDT
DTSTART:20230312T070000
END:DAYLIGHT
BEGIN:STANDARD
TZOFFSETFROM:-0400
TZOFFSETTO:-0500
TZNAME:EST
DTSTART:20231105T060000
END:STANDARD
BEGIN:DAYLIGHT
TZOFFSETFROM:-0500
TZOFFSETTO:-0400
TZNAME:EDT
DTSTART:20240310T070000
END:DAYLIGHT
BEGIN:STANDARD
TZOFFSETFROM:-0400
TZOFFSETTO:-0500
TZNAME:EST
DTSTART:20241103T060000
END:STANDARD
BEGIN:DAYLIGHT
TZOFFSETFROM:-0500
TZOFFSETTO:-0400
TZNAME:EDT
DTSTART:20250309T070000
END:DAYLIGHT
BEGIN:STANDARD
TZOFFSETFROM:-0400
TZOFFSETTO:-0500
TZNAME:EST
DTSTART:20251102T060000
END:STANDARD
END:VTIMEZONE
BEGIN:VEVENT
DTSTART;TZID=America/New_York:20240117T183000
DTEND;TZID=America/New_York:20240117T193000
DTSTAMP:20260421T222629
CREATED:20231004T203711Z
LAST-MODIFIED:20240111T155811Z
UID:4955-1705516200-1705519800@sharonvirts.com
SUMMARY:VENUE CHANGE: Veil of Doubt Book Talk & Signing - Marriott Courtyard\, Natick\, MA
DESCRIPTION:VENUE CHANGE! \nJoin me in the conference room at the Courtyard by Marriott Boston Natick in Natick\, MA where I will be introducing Veil of Doubt and signing books. \nI will also be pouring some of my husband’s wine\, Amles Visage and serving some snacks. \nPre-registration required. \nUse this link to register!
URL:https://sharonvirts.com/event/veil-of-doubt-book-talk-signing-hummingbird-books-in-chestnut-hill-ma/
LOCATION:Courtyard Marriott Boston\, 342 Speen Street\, Natick\, MA\, 01760\, United States
END:VEVENT
END:VCALENDAR