BEGIN:VCALENDAR
VERSION:2.0
PRODID:-//Sharon Virts | Author - ECPv6.15.20//NONSGML v1.0//EN
CALSCALE:GREGORIAN
METHOD:PUBLISH
X-WR-CALNAME:Sharon Virts | Author
X-ORIGINAL-URL:https://sharonvirts.com
X-WR-CALDESC:Events for Sharon Virts | Author
REFRESH-INTERVAL;VALUE=DURATION:PT1H
X-Robots-Tag:noindex
X-PUBLISHED-TTL:PT1H
BEGIN:VTIMEZONE
TZID:Asia/Karachi
BEGIN:STANDARD
TZOFFSETFROM:+0500
TZOFFSETTO:+0500
TZNAME:PKT
DTSTART:20230101T000000
END:STANDARD
END:VTIMEZONE
BEGIN:VEVENT
DTSTART;TZID=Asia/Karachi:20240305T180000
DTEND;TZID=Asia/Karachi:20240305T200000
DTSTAMP:20260422T052912
CREATED:20240111T161015Z
LAST-MODIFIED:20240111T161015Z
UID:5116-1709661600-1709668800@sharonvirts.com
SUMMARY:Veil of Doubt Book Talk at River Creek Country Club
DESCRIPTION:I will be joining the River Creek book club for a book talk on Veil of Doubt on March 5 from 6:00 pm -8:00 pm. \nInvitation only.
URL:https://sharonvirts.com/event/veil-of-doubt-book-talk-at-river-creek-country-club/
LOCATION:River Creek Country Club\, 43800 Olympic Blvd\, Leesburg\, Virginia\, 20176
CATEGORIES:Book Talk
END:VEVENT
END:VCALENDAR