BEGIN:VCALENDAR
VERSION:2.0
PRODID:-//Sharon Virts | Author - ECPv6.15.20//NONSGML v1.0//EN
CALSCALE:GREGORIAN
METHOD:PUBLISH
X-WR-CALNAME:Sharon Virts | Author
X-ORIGINAL-URL:https://sharonvirts.com
X-WR-CALDESC:Events for Sharon Virts | Author
REFRESH-INTERVAL;VALUE=DURATION:PT1H
X-Robots-Tag:noindex
X-PUBLISHED-TTL:PT1H
BEGIN:VTIMEZONE
TZID:UTC
BEGIN:STANDARD
TZOFFSETFROM:+0000
TZOFFSETTO:+0000
TZNAME:UTC
DTSTART:20230101T000000
END:STANDARD
END:VTIMEZONE
BEGIN:VEVENT
DTSTART;TZID=UTC:20240612T070000
DTEND;TZID=UTC:20240612T203000
DTSTAMP:20260424T144557
CREATED:20240614T234821Z
LAST-MODIFIED:20240615T000039Z
UID:5556-1718175600-1718224200@sharonvirts.com
SUMMARY:Veil of Doubt Virtual Tour
DESCRIPTION:Join me on a Virtual Tour of the buildings and homes featured in Veil of Doubt! \nOn Wednesday June 12 from 7:00-8:30\, I will be hosting a Virtual Tour of the places that served as the real-life settings for the scenes in my novel Veil of Doubt. \nWe will start at St. James Church and wind through downtown Leesburg\, Virginia with fact-filled stops along the way.
URL:https://sharonvirts.com/event/veil-of-doubt-virtual-tour-june-12/
LOCATION:VA
END:VEVENT
END:VCALENDAR