BEGIN:VCALENDAR
VERSION:2.0
PRODID:-//Sharon Virts | Author - ECPv6.15.20//NONSGML v1.0//EN
CALSCALE:GREGORIAN
METHOD:PUBLISH
X-ORIGINAL-URL:https://sharonvirts.com
X-WR-CALDESC:Events for Sharon Virts | Author
REFRESH-INTERVAL;VALUE=DURATION:PT1H
X-Robots-Tag:noindex
X-PUBLISHED-TTL:PT1H
BEGIN:VTIMEZONE
TZID:Asia/Karachi
BEGIN:STANDARD
TZOFFSETFROM:+0500
TZOFFSETTO:+0500
TZNAME:PKT
DTSTART:20230101T000000
END:STANDARD
END:VTIMEZONE
BEGIN:VEVENT
DTSTART;VALUE=DATE:20240628
DTEND;VALUE=DATE:20240702
DTSTAMP:20260424T100456
CREATED:20240614T235204Z
LAST-MODIFIED:20240614T235204Z
UID:5558-1719532800-1719878399@sharonvirts.com
SUMMARY:American Librarian Association in San Diego
DESCRIPTION:I will be participating in the American Librarian Association (ALA) Annual Conference\, in San Diego\, CA\, from June 28 – July 1\, 2024.
URL:https://sharonvirts.com/event/american-librarian-association-in-san-diego/
LOCATION:VA
CATEGORIES:ALA Annual Conference
END:VEVENT
BEGIN:VEVENT
DTSTART;TZID=Asia/Karachi:20240629T100000
DTEND;TZID=Asia/Karachi:20240629T160000
DTSTAMP:20260424T100456
CREATED:20240614T235907Z
LAST-MODIFIED:20240615T000032Z
UID:5560-1719655200-1719676800@sharonvirts.com
SUMMARY:Third Annual Lansdowne Literary Festival
DESCRIPTION:I will be joining the Lansdowne Woods Writers Group at their third annual Lansdowne Literary Festival on June 29\, 10 am – 4 pm. \nEvent details: \nWorkshops on publishing and writing in the morning\, lunch in the Club House cafe\, and an afternoon of authors meeting and greeting the public\, selling and signing their books. \nThe Festival is free and open to the public.
URL:https://sharonvirts.com/event/third-annual-lansdowne-literary-festival-june-29/
LOCATION:Lansdowne Woods of VA Clubhouse\, 19375 Magnolia Grove Square\, Lansdowne\, VA\, 20176\, United States
CATEGORIES:Book Signing
END:VEVENT
END:VCALENDAR