BEGIN:VCALENDAR
VERSION:2.0
PRODID:-//Sharon Virts | Author - ECPv6.15.20//NONSGML v1.0//EN
CALSCALE:GREGORIAN
METHOD:PUBLISH
X-WR-CALNAME:Sharon Virts | Author
X-ORIGINAL-URL:https://sharonvirts.com
X-WR-CALDESC:Events for Sharon Virts | Author
REFRESH-INTERVAL;VALUE=DURATION:PT1H
X-Robots-Tag:noindex
X-PUBLISHED-TTL:PT1H
BEGIN:VTIMEZONE
TZID:America/New_York
BEGIN:DAYLIGHT
TZOFFSETFROM:-0500
TZOFFSETTO:-0400
TZNAME:EDT
DTSTART:20230312T070000
END:DAYLIGHT
BEGIN:STANDARD
TZOFFSETFROM:-0400
TZOFFSETTO:-0500
TZNAME:EST
DTSTART:20231105T060000
END:STANDARD
BEGIN:DAYLIGHT
TZOFFSETFROM:-0500
TZOFFSETTO:-0400
TZNAME:EDT
DTSTART:20240310T070000
END:DAYLIGHT
BEGIN:STANDARD
TZOFFSETFROM:-0400
TZOFFSETTO:-0500
TZNAME:EST
DTSTART:20241103T060000
END:STANDARD
BEGIN:DAYLIGHT
TZOFFSETFROM:-0500
TZOFFSETTO:-0400
TZNAME:EDT
DTSTART:20250309T070000
END:DAYLIGHT
BEGIN:STANDARD
TZOFFSETFROM:-0400
TZOFFSETTO:-0500
TZNAME:EST
DTSTART:20251102T060000
END:STANDARD
END:VTIMEZONE
BEGIN:VEVENT
DTSTART;TZID=America/New_York:20241101T180000
DTEND;TZID=America/New_York:20241101T190000
DTSTAMP:20260424T160046
CREATED:20240924T201952Z
LAST-MODIFIED:20240925T153334Z
UID:5718-1730484000-1730487600@sharonvirts.com
SUMMARY:Book Signing: Birch Tree Bookstore\, Leesburg\, VA
DESCRIPTION:Leesburg local Birch Tree Bookstore\, will host Sharon on November 1\, 2024 for her first book signing event for The Grays of Truth. \nThis event is free. Use this link to register. \nCome celebrate with us!
URL:https://sharonvirts.com/event/book-signing-birch-tree-bookstore-leesburg-va/
LOCATION:Birch Tree Bookstore\, 11 W Market St\, Leesburg\, VA\, 20176\, United States
CATEGORIES:Book Signing
END:VEVENT
END:VCALENDAR