BEGIN:VCALENDAR
VERSION:2.0
PRODID:-//Sharon Virts | Author - ECPv6.15.20//NONSGML v1.0//EN
CALSCALE:GREGORIAN
METHOD:PUBLISH
X-WR-CALNAME:Sharon Virts | Author
X-ORIGINAL-URL:https://sharonvirts.com
X-WR-CALDESC:Events for Sharon Virts | Author
REFRESH-INTERVAL;VALUE=DURATION:PT1H
X-Robots-Tag:noindex
X-PUBLISHED-TTL:PT1H
BEGIN:VTIMEZONE
TZID:UTC
BEGIN:STANDARD
TZOFFSETFROM:+0000
TZOFFSETTO:+0000
TZNAME:UTC
DTSTART:20220101T000000
END:STANDARD
END:VTIMEZONE
BEGIN:VEVENT
DTSTART;TZID=UTC:20230920T110000
DTEND;TZID=UTC:20230920T160000
DTSTAMP:20260421T133429
CREATED:20230905T145438Z
LAST-MODIFIED:20230905T145438Z
UID:4885-1695207600-1695225600@sharonvirts.com
SUMMARY:Pacific Northwest Booksellers Association Conference - Book Signing
DESCRIPTION:I will be at the Pacific Northwest Booksellers Association Conference signing books – I’d love to see you there.
URL:https://sharonvirts.com/event/pacific-northwest-booksellers-association-conference-book-signing/
LOCATION:Holiday Inn\, 909 N Hayden Island Drive\, Portland\, OR\, United States
END:VEVENT
BEGIN:VEVENT
DTSTART;TZID=UTC:20230920T203000
DTEND;TZID=UTC:20230920T220000
DTSTAMP:20260421T133429
CREATED:20230905T145917Z
LAST-MODIFIED:20230905T145917Z
UID:4888-1695241800-1695247200@sharonvirts.com
SUMMARY:Pacific Northwest Booksellers Association Conference - Sweet & Greet
DESCRIPTION:This event is open to all badged attendees.
URL:https://sharonvirts.com/event/pacific-northwest-booksellers-association-conference-sweet-greet/
LOCATION:Holiday Inn\, 909 N Hayden Island Drive\, Portland\, OR\, United States
END:VEVENT
BEGIN:VEVENT
DTSTART;TZID=UTC:20230928T130000
DTEND;TZID=UTC:20230928T150000
DTSTAMP:20260421T133429
CREATED:20230905T150400Z
LAST-MODIFIED:20230905T150400Z
UID:4890-1695906000-1695913200@sharonvirts.com
SUMMARY:Bald Head Island Book Club - Discussion on Masque of Honor and Veil of Doubt
DESCRIPTION:Book club member Joyce Nelson will be hosting a book talk on my two books Masque of Honor and Veil of Doubt. You will have the opportunity to pre-order Veil of Doubt and I’ll happily sign your copy of Masque of Honor.\nInvitation only.
URL:https://sharonvirts.com/event/bald-head-island-book-club-discussion-on-masque-of-honor-and-veil-of-doubt/
LOCATION:VA
END:VEVENT
END:VCALENDAR