BEGIN:VCALENDAR
VERSION:2.0
PRODID:-//Sharon Virts | Author - ECPv6.15.20//NONSGML v1.0//EN
CALSCALE:GREGORIAN
METHOD:PUBLISH
X-WR-CALNAME:Sharon Virts | Author
X-ORIGINAL-URL:https://sharonvirts.com
X-WR-CALDESC:Events for Sharon Virts | Author
REFRESH-INTERVAL;VALUE=DURATION:PT1H
X-Robots-Tag:noindex
X-PUBLISHED-TTL:PT1H
BEGIN:VTIMEZONE
TZID:UTC
BEGIN:STANDARD
TZOFFSETFROM:+0000
TZOFFSETTO:+0000
TZNAME:UTC
DTSTART:20220101T000000
END:STANDARD
END:VTIMEZONE
BEGIN:VTIMEZONE
TZID:America/New_York
BEGIN:DAYLIGHT
TZOFFSETFROM:-0500
TZOFFSETTO:-0400
TZNAME:EDT
DTSTART:20220313T070000
END:DAYLIGHT
BEGIN:STANDARD
TZOFFSETFROM:-0400
TZOFFSETTO:-0500
TZNAME:EST
DTSTART:20221106T060000
END:STANDARD
BEGIN:DAYLIGHT
TZOFFSETFROM:-0500
TZOFFSETTO:-0400
TZNAME:EDT
DTSTART:20230312T070000
END:DAYLIGHT
BEGIN:STANDARD
TZOFFSETFROM:-0400
TZOFFSETTO:-0500
TZNAME:EST
DTSTART:20231105T060000
END:STANDARD
BEGIN:DAYLIGHT
TZOFFSETFROM:-0500
TZOFFSETTO:-0400
TZNAME:EDT
DTSTART:20240310T070000
END:DAYLIGHT
BEGIN:STANDARD
TZOFFSETFROM:-0400
TZOFFSETTO:-0500
TZNAME:EST
DTSTART:20241103T060000
END:STANDARD
END:VTIMEZONE
BEGIN:VEVENT
DTSTART;TZID=UTC:20231014T173000
DTEND;TZID=UTC:20231014T200000
DTSTAMP:20260421T152659
CREATED:20230905T144907Z
LAST-MODIFIED:20230905T200455Z
UID:4881-1697304600-1697313600@sharonvirts.com
SUMMARY:Veil of Doubt Release Party
DESCRIPTION:I am thrilled to introduce Veil of Doubt and celebrate its releases with you.\n5:30-6:00 Champagne Reception (Author edition owners and Book club members only)\n6:00-8:00 Book Talk & Signing (pre-registration required) \nCost of admission is a copy of Veil of Doubt – bring your copy to be signed or buy one at the event.
URL:https://sharonvirts.com/event/veil-of-doubt-release-party/
LOCATION:Selma Mansion\, 16119 Garriland Dr\, Leesburg\, VA\, United States
END:VEVENT
BEGIN:VEVENT
DTSTART;TZID=America/New_York:20231016T053000
DTEND;TZID=America/New_York:20231016T190000
DTSTAMP:20260421T152659
CREATED:20230905T143459Z
LAST-MODIFIED:20231026T144002Z
UID:4877-1697434200-1697482800@sharonvirts.com
SUMMARY:Veil of Doubt Book Talk & Signing - The Twig Book Shop in San Antonio\, TX
DESCRIPTION:Join me at The Twig Book Shop in San Antonio\, TX where I will be introducing Veil of Doubt and signing books. Pre-registration required. \nUse this link to register!
URL:https://sharonvirts.com/event/veil-of-doubt-book-talk-signing/
LOCATION:The Twig Book Store\, 306 Pearl Pkwy Ste 106\, San Antonio\, TX\, 78215\, United States
END:VEVENT
BEGIN:VEVENT
DTSTART;TZID=America/New_York:20231017T060000
DTEND;TZID=America/New_York:20231017T190000
DTSTAMP:20260421T152659
CREATED:20230905T150913Z
LAST-MODIFIED:20231026T143840Z
UID:4892-1697522400-1697569200@sharonvirts.com
SUMMARY:Veil of Doubt Book Talk & Signing - Interabang Books in Dallas\, TX
DESCRIPTION:Join me at Interabang Books in Dallas\, TX where I will be introducing Veil of Doubt and signing books. Pre-registration required. \nUse this link to register!
URL:https://sharonvirts.com/event/veil-of-doubt-book-talk-signing-interabang-books/
LOCATION:Interabang Books\, 5600 W. Lovers Lane #2\, Dallas\, TX\, 75209\, United States
END:VEVENT
BEGIN:VEVENT
DTSTART;TZID=America/New_York:20231024T180000
DTEND;TZID=America/New_York:20231024T190000
DTSTAMP:20260421T152659
CREATED:20230915T130336Z
LAST-MODIFIED:20231026T143916Z
UID:4916-1698170400-1698174000@sharonvirts.com
SUMMARY:Veil of Doubt Book Talk & Signing - Bank Square Books\, Mystic\, CT
DESCRIPTION:Join me at Bank Square Books in Mystic\, CT where I will be introducing Veil of Doubt and signing books. Pre-registration required. \nUse this link to register!
URL:https://sharonvirts.com/event/veil-of-doubt-book-talk-signing-bank-square-books-mystic-ct/
LOCATION:Bank Square Books\, 53 West Main Street\, Mystic\, CT\, United States
END:VEVENT
BEGIN:VEVENT
DTSTART;TZID=America/New_York:20231027T180000
DTEND;TZID=America/New_York:20231027T210000
DTSTAMP:20260421T152659
CREATED:20230905T151943Z
LAST-MODIFIED:20231026T143802Z
UID:4898-1698429600-1698440400@sharonvirts.com
SUMMARY:Leesburg Hauntings Tour & Veil of Doubt Book Signing - October 27th in Leesburg\, VA
DESCRIPTION:Meet me on the steps of the Loudoun County Courthouse where will will join the Leesburg Hauntings Tour. Once the tour is complete\, I will discuss Veil of Doubt and sign books.
URL:https://sharonvirts.com/event/leesburg-hauntings-tour-veil-of-doubt-book-signing-october-27th/
LOCATION:VA
END:VEVENT
BEGIN:VEVENT
DTSTART;TZID=America/New_York:20231028T180000
DTEND;TZID=America/New_York:20231028T210000
DTSTAMP:20260421T152659
CREATED:20230905T152047Z
LAST-MODIFIED:20231026T143728Z
UID:4900-1698516000-1698526800@sharonvirts.com
SUMMARY:Leesburg Hauntings Tour & Veil of Doubt Book Signing - October 28th in Leesburg\, VA
DESCRIPTION:Meet me on the steps of the Loudoun County Courthouse where will will join the Leesburg Hauntings Tour. Once the tour is complete\, I will discuss Veil of Doubt and sign books.
URL:https://sharonvirts.com/event/leesburg-hauntings-tour-veil-of-doubt-book-signing-october-28th/
LOCATION:VA
END:VEVENT
END:VCALENDAR