BEGIN:VCALENDAR
VERSION:2.0
PRODID:-//Sharon Virts | Author - ECPv6.15.20//NONSGML v1.0//EN
CALSCALE:GREGORIAN
METHOD:PUBLISH
X-WR-CALNAME:Sharon Virts | Author
X-ORIGINAL-URL:https://sharonvirts.com
X-WR-CALDESC:Events for Sharon Virts | Author
REFRESH-INTERVAL;VALUE=DURATION:PT1H
X-Robots-Tag:noindex
X-PUBLISHED-TTL:PT1H
BEGIN:VTIMEZONE
TZID:America/New_York
BEGIN:DAYLIGHT
TZOFFSETFROM:-0500
TZOFFSETTO:-0400
TZNAME:EDT
DTSTART:20230312T070000
END:DAYLIGHT
BEGIN:STANDARD
TZOFFSETFROM:-0400
TZOFFSETTO:-0500
TZNAME:EST
DTSTART:20231105T060000
END:STANDARD
BEGIN:DAYLIGHT
TZOFFSETFROM:-0500
TZOFFSETTO:-0400
TZNAME:EDT
DTSTART:20240310T070000
END:DAYLIGHT
BEGIN:STANDARD
TZOFFSETFROM:-0400
TZOFFSETTO:-0500
TZNAME:EST
DTSTART:20241103T060000
END:STANDARD
BEGIN:DAYLIGHT
TZOFFSETFROM:-0500
TZOFFSETTO:-0400
TZNAME:EDT
DTSTART:20250309T070000
END:DAYLIGHT
BEGIN:STANDARD
TZOFFSETFROM:-0400
TZOFFSETTO:-0500
TZNAME:EST
DTSTART:20251102T060000
END:STANDARD
END:VTIMEZONE
BEGIN:VTIMEZONE
TZID:Asia/Karachi
BEGIN:STANDARD
TZOFFSETFROM:+0500
TZOFFSETTO:+0500
TZNAME:PKT
DTSTART:20230101T000000
END:STANDARD
END:VTIMEZONE
BEGIN:VEVENT
DTSTART;TZID=America/New_York:20240104T190000
DTEND;TZID=America/New_York:20240104T200000
DTSTAMP:20260421T204038
CREATED:20240102T183349Z
LAST-MODIFIED:20240102T183349Z
UID:5097-1704394800-1704398400@sharonvirts.com
SUMMARY:Virtual Veil of Doubt Book Chat
DESCRIPTION:Please join me via Zoom\, on Thursday\, January 4th @7pm for a Veil of Doubt Book Chat. I am excited to answer your questions and share this story’s dark history with you. \nTo register\, click here.
URL:https://sharonvirts.com/event/virtual-veil-of-doubt-book-chat/
LOCATION:VA
END:VEVENT
BEGIN:VEVENT
DTSTART;TZID=Asia/Karachi:20240111T190000
DTEND;TZID=Asia/Karachi:20240111T200000
DTSTAMP:20260421T204038
CREATED:20240109T140657Z
LAST-MODIFIED:20240109T140657Z
UID:5106-1704999600-1705003200@sharonvirts.com
SUMMARY:Virtual Veil of Doubt Book Chat
DESCRIPTION:Please join me via Zoom\, on Thursday\, January 11 @7pm for a Veil of Doubt Book Chat. I am excited to answer your questions and share this story’s dark history with you. \nTo register\, click here.
URL:https://sharonvirts.com/event/virtual-veil-of-doubt-book-chat-3/
LOCATION:VA
CATEGORIES:Book Talk
END:VEVENT
BEGIN:VEVENT
DTSTART;TZID=America/New_York:20240117T183000
DTEND;TZID=America/New_York:20240117T193000
DTSTAMP:20260421T204038
CREATED:20231004T203711Z
LAST-MODIFIED:20240111T155811Z
UID:4955-1705516200-1705519800@sharonvirts.com
SUMMARY:VENUE CHANGE: Veil of Doubt Book Talk & Signing - Marriott Courtyard\, Natick\, MA
DESCRIPTION:VENUE CHANGE! \nJoin me in the conference room at the Courtyard by Marriott Boston Natick in Natick\, MA where I will be introducing Veil of Doubt and signing books. \nI will also be pouring some of my husband’s wine\, Amles Visage and serving some snacks. \nPre-registration required. \nUse this link to register!
URL:https://sharonvirts.com/event/veil-of-doubt-book-talk-signing-hummingbird-books-in-chestnut-hill-ma/
LOCATION:Courtyard Marriott Boston\, 342 Speen Street\, Natick\, MA\, 01760\, United States
END:VEVENT
BEGIN:VEVENT
DTSTART;TZID=Asia/Karachi:20240118T183000
DTEND;TZID=Asia/Karachi:20240118T193000
DTSTAMP:20260421T204038
CREATED:20240109T135817Z
LAST-MODIFIED:20240109T135817Z
UID:5103-1705602600-1705606200@sharonvirts.com
SUMMARY:Veil of Doubt Book Talk & Signing - Schuler Books in Grand Rapids\, MI
DESCRIPTION:Join me at Schuler Books in Grand Rapids\, MI where I will be introducing Veil of Doubt and signing books. Pre-registration required.\nUse this link to register!
URL:https://sharonvirts.com/event/veil-of-doubt-book-talk-signing-schuler-books-in-grand-rapids-mi/
LOCATION:Schuler Books\, 2660 28th Street SE\, Grand Rapids\, MI\, 49512\, United States
CATEGORIES:Book Signing
END:VEVENT
BEGIN:VEVENT
DTSTART;TZID=America/New_York:20240123T190000
DTEND;TZID=America/New_York:20240123T200000
DTSTAMP:20260421T204038
CREATED:20240102T183733Z
LAST-MODIFIED:20240102T183733Z
UID:5100-1706036400-1706040000@sharonvirts.com
SUMMARY:Virtual Veil of Doubt Book Chat
DESCRIPTION:Please join me via Zoom\, on Thursday\, January 23rd @7pm for a Veil of Doubt Book Chat. I am excited to answer your questions and share this story’s dark history with you. \nTo register\, click here.
URL:https://sharonvirts.com/event/virtual-veil-of-doubt-book-chat-2/
LOCATION:VA
END:VEVENT
END:VCALENDAR