BEGIN:VCALENDAR
VERSION:2.0
PRODID:-//Sharon Virts | Author - ECPv6.15.20//NONSGML v1.0//EN
CALSCALE:GREGORIAN
METHOD:PUBLISH
X-ORIGINAL-URL:https://sharonvirts.com
X-WR-CALDESC:Events for Sharon Virts | Author
REFRESH-INTERVAL;VALUE=DURATION:PT1H
X-Robots-Tag:noindex
X-PUBLISHED-TTL:PT1H
BEGIN:VTIMEZONE
TZID:Asia/Karachi
BEGIN:STANDARD
TZOFFSETFROM:+0500
TZOFFSETTO:+0500
TZNAME:PKT
DTSTART:20230101T000000
END:STANDARD
END:VTIMEZONE
BEGIN:VEVENT
DTSTART;TZID=Asia/Karachi:20240509T113000
DTEND;TZID=Asia/Karachi:20240509T130000
DTSTAMP:20260422T071044
CREATED:20240614T233818Z
LAST-MODIFIED:20240614T233818Z
UID:5550-1715254200-1715259600@sharonvirts.com
SUMMARY:Veil of Doubt Book Talk at River Creek Country Club
DESCRIPTION:I will be joining DAR for a book talk on Veil of Doubt on May 9 from 11:30 am -1:00 pm. \nInvitation only.
URL:https://sharonvirts.com/event/veil-of-doubt-book-talk-at-river-creek-country-club-2/
LOCATION:River Creek Country Club\, 43800 Olympic Blvd\, Leesburg\, Virginia\, 20176
CATEGORIES:Book Signing,Book Talk
END:VEVENT
END:VCALENDAR