BEGIN:VCALENDAR
VERSION:2.0
PRODID:-//Sharon Virts | Author - ECPv6.15.20//NONSGML v1.0//EN
CALSCALE:GREGORIAN
METHOD:PUBLISH
X-WR-CALNAME:Sharon Virts | Author
X-ORIGINAL-URL:https://sharonvirts.com
X-WR-CALDESC:Events for Sharon Virts | Author
REFRESH-INTERVAL;VALUE=DURATION:PT1H
X-Robots-Tag:noindex
X-PUBLISHED-TTL:PT1H
BEGIN:VTIMEZONE
TZID:America/New_York
BEGIN:DAYLIGHT
TZOFFSETFROM:-0500
TZOFFSETTO:-0400
TZNAME:EDT
DTSTART:20230312T070000
END:DAYLIGHT
BEGIN:STANDARD
TZOFFSETFROM:-0400
TZOFFSETTO:-0500
TZNAME:EST
DTSTART:20231105T060000
END:STANDARD
BEGIN:DAYLIGHT
TZOFFSETFROM:-0500
TZOFFSETTO:-0400
TZNAME:EDT
DTSTART:20240310T070000
END:DAYLIGHT
BEGIN:STANDARD
TZOFFSETFROM:-0400
TZOFFSETTO:-0500
TZNAME:EST
DTSTART:20241103T060000
END:STANDARD
BEGIN:DAYLIGHT
TZOFFSETFROM:-0500
TZOFFSETTO:-0400
TZNAME:EDT
DTSTART:20250309T070000
END:DAYLIGHT
BEGIN:STANDARD
TZOFFSETFROM:-0400
TZOFFSETTO:-0500
TZNAME:EST
DTSTART:20251102T060000
END:STANDARD
END:VTIMEZONE
BEGIN:VEVENT
DTSTART;TZID=America/New_York:20241008T183000
DTEND;TZID=America/New_York:20241008T200000
DTSTAMP:20260424T160220
CREATED:20240924T200725Z
LAST-MODIFIED:20240924T200725Z
UID:5713-1728412200-1728417600@sharonvirts.com
SUMMARY:The History Behind the Stories Presentation
DESCRIPTION:Invitation only event. \nSharon will join the Lucketts Ruritan Club to present The History Behind the Stories.
URL:https://sharonvirts.com/event/the-history-behind-the-stories-presentation/
LOCATION:Faith Chapel Community Church\, 14188 Chapel Ln\, Leesburg\, VA\, 20176\, United States
CATEGORIES:Book Talk
END:VEVENT
BEGIN:VEVENT
DTSTART;TZID=America/New_York:20241029T080000
DTEND;TZID=America/New_York:20241029T170000
DTSTAMP:20260424T160220
CREATED:20240924T203054Z
LAST-MODIFIED:20240924T203054Z
UID:5723-1730188800-1730221200@sharonvirts.com
SUMMARY:LAUNCH DAY!
DESCRIPTION:The Grays of Truth launches today – October 29\, 2024. \nYou can get your copy at your local book seller\, Amazon or Barns & Noble.
URL:https://sharonvirts.com/event/launch-day/
LOCATION:VA
CATEGORIES:Book Launch
END:VEVENT
END:VCALENDAR